{
 "currentVersion": 10.81,
 "cimVersion": "2.6.0",
 "serviceDescription": "",
 "mapName": "CompressedOrtho2026_2285",
 "description": "",
 "copyrightText": "",
 "supportsDynamicLayers": false,
 "layers": [
  {
   "id": 0,
   "name": "CompressedOrtho2026_2285.tif",
   "parentLayerId": -1,
   "defaultVisibility": true,
   "subLayerIds": null,
   "minScale": 0,
   "maxScale": 0,
   "type": "Raster Layer",
   "supportsDynamicLegends": true
  }
 ],
 "tables": [],
 "spatialReference": {
  "wkid": 102748,
  "latestWkid": 2285,
  "xyTolerance": 0.003280833333333333,
  "zTolerance": 0.001,
  "mTolerance": 0.001,
  "falseX": -117104300,
  "falseY": -99539600,
  "xyUnits": 3048.0060960121928,
  "falseZ": -100000,
  "zUnits": 10000,
  "falseM": -100000,
  "mUnits": 10000
 },
 "singleFusedMapCache": true,
 "tileInfo": {
  "rows": 256,
  "cols": 256,
  "dpi": 96,
  "format": "MIXED",
  "compressionQuality": 75,
  "origin": {
   "x": 1286500,
   "y": 306050
  },
  "spatialReference": {
   "wkid": 102748,
   "latestWkid": 2285,
   "xyTolerance": 0.003280833333333333,
   "zTolerance": 0.001,
   "mTolerance": 0.001,
   "falseX": -117104300,
   "falseY": -99539600,
   "xyUnits": 3048.0060960121928,
   "falseZ": -100000,
   "zUnits": 10000,
   "falseM": -100000,
   "mUnits": 10000
  },
  "lods": [
   {
    "level": 0,
    "resolution": 52.08333333333333,
    "scale": 60000
   },
   {
    "level": 1,
    "resolution": 26.041666666666664,
    "scale": 30000
   },
   {
    "level": 2,
    "resolution": 13.020833333333332,
    "scale": 15000
   },
   {
    "level": 3,
    "resolution": 6.944444444444444,
    "scale": 8000
   },
   {
    "level": 4,
    "resolution": 3.472222222222222,
    "scale": 4000
   },
   {
    "level": 5,
    "resolution": 1.736111111111111,
    "scale": 2000
   },
   {
    "level": 6,
    "resolution": 0.8680555555555555,
    "scale": 1000
   },
   {
    "level": 7,
    "resolution": 0.43402777777777773,
    "scale": 500
   },
   {
    "level": 8,
    "resolution": 0.1736111111111111,
    "scale": 200
   }
  ]
 },
 "initialExtent": {
  "xmin": 1281517.092495089,
  "ymin": 271932.42476302927,
  "xmax": 1314029.3937759278,
  "ymax": 297329.92648106563,
  "spatialReference": {
   "wkid": 102748,
   "latestWkid": 2285,
   "xyTolerance": 0.003280833333333333,
   "zTolerance": 0.001,
   "mTolerance": 0.001,
   "falseX": -117104300,
   "falseY": -99539600,
   "xyUnits": 3048.0060960121928,
   "falseZ": -100000,
   "zUnits": 10000,
   "falseM": -100000,
   "mUnits": 10000
  }
 },
 "fullExtent": {
  "xmin": 1286999.683999902,
  "ymin": 266999.1929101766,
  "xmax": 1313999.933999902,
  "ymax": 305999.4429101766,
  "spatialReference": {
   "wkid": 102748,
   "latestWkid": 2285,
   "xyTolerance": 0.003280833333333333,
   "zTolerance": 0.001,
   "mTolerance": 0.001,
   "falseX": -117104300,
   "falseY": -99539600,
   "xyUnits": 3048.0060960121928,
   "falseZ": -100000,
   "zUnits": 10000,
   "falseM": -100000,
   "mUnits": 10000
  }
 },
 "minScale": 60000,
 "maxScale": 200,
 "minLOD": 0,
 "maxLOD": 8,
 "units": "esriFeet",
 "supportedImageFormatTypes": "PNG32,PNG24,PNG,JPG,DIB,TIFF,EMF,PS,PDF,GIF,SVG,SVGZ,BMP",
 "documentInfo": {
  "Title": "Ortho2026_NAD831",
  "Author": "",
  "Comments": "",
  "Subject": "",
  "Category": "",
  "AntialiasingMode": "Fast",
  "TextAntialiasingMode": "Force",
  "Keywords": ""
 },
 "supportsQueryDomains": true,
 "capabilities": "Map",
 "supportedQueryFormats": "JSON, geoJSON, PBF",
 "exportTilesAllowed": false,
 "referenceScale": 0.0,
 "datumTransformations": [
  {
   "geoTransforms": [
    {
     "wkid": 8446,
     "latestWkid": 1501,
     "transformForward": true,
     "name": "NAD_1983_To_HARN_WA_OR"
    }
   ]
  },
  {
   "geoTransforms": [
    {
     "wkid": 8446,
     "latestWkid": 1501,
     "transformForward": false,
     "name": "NAD_1983_To_HARN_WA_OR"
    }
   ]
  }
 ],
 "supportsDatumTransformation": true,
 "archivingInfo": {
  "supportsHistoricMoment": false
 },
 "supportsClipping": true,
 "supportsSpatialFilter": true,
 "supportsQueryDataElements": true,
 "maxRecordCount": 2000,
 "maxImageHeight": 4096,
 "maxImageWidth": 4096,
 "supportedExtensions": ""
}
